Package: mBPCR Version: 1.61.0 Command: /home/biocbuild/bbs-3.21-bioc/R/bin/R CMD build --keep-empty-dirs --no-resave-data mBPCR StartedAt: 2025-02-12 17:54:34 -0500 (Wed, 12 Feb 2025) EndedAt: 2025-02-12 17:55:31 -0500 (Wed, 12 Feb 2025) EllapsedTime: 57.1 seconds RetCode: 0 Status: OK PackageFile: mBPCR_1.61.0.tar.gz PackageFileSize: 835.7 KiB