Package: mBPCR Version: 1.61.0 Command: E:\biocbuild\bbs-3.21-bioc\R\bin\R.exe CMD check --no-multiarch --install=check:mBPCR.install-out.txt --library=E:\biocbuild\bbs-3.21-bioc\R\library --no-vignettes --timings mBPCR_1.61.0.tar.gz StartedAt: 2025-02-10 02:35:08 -0500 (Mon, 10 Feb 2025) EndedAt: 2025-02-10 02:39:33 -0500 (Mon, 10 Feb 2025) EllapsedTime: 264.5 seconds RetCode: 0 Status: OK CheckDir: mBPCR.Rcheck Warnings: 0