Package: mBPCR Version: 1.61.0 Command: E:\biocbuild\bbs-3.21-bioc\R\bin\R.exe CMD INSTALL mBPCR StartedAt: 2025-02-09 16:15:16 -0500 (Sun, 09 Feb 2025) EndedAt: 2025-02-09 16:15:56 -0500 (Sun, 09 Feb 2025) EllapsedTime: 40.8 seconds RetCode: 0 Status: OK