Package: mCSEA Version: 1.27.2 Command: rm -rf mCSEA.buildbin-libdir && mkdir mCSEA.buildbin-libdir && /Users/biocbuild/BBS/utils/build-universal.sh mCSEA_1.27.2.tar.gz /Library/Frameworks/R.framework/Resources/bin/R mCSEA.buildbin-libdir StartedAt: 2025-02-05 22:24:55 -0500 (Wed, 05 Feb 2025) EndedAt: 2025-02-05 22:25:13 -0500 (Wed, 05 Feb 2025) EllapsedTime: 17.4 seconds RetCode: 0 Status: OK PackageFile: mCSEA_1.27.2.tgz PackageFileSize: 2.083 MiB