Package: mCSEA Version: 1.27.2 Command: /Library/Frameworks/R.framework/Resources/bin/R CMD build --keep-empty-dirs --no-resave-data mCSEA StartedAt: 2025-02-05 16:51:04 -0500 (Wed, 05 Feb 2025) EndedAt: 2025-02-05 16:52:31 -0500 (Wed, 05 Feb 2025) EllapsedTime: 87.0 seconds RetCode: 0 Status: OK PackageFile: mCSEA_1.27.2.tar.gz PackageFileSize: 1.87 MiB