Package: mCSEA Version: 1.27.2 Command: /Library/Frameworks/R.framework/Resources/bin/R CMD check --install=check:mCSEA.install-out.txt --library=/Library/Frameworks/R.framework/Resources/library --no-vignettes --timings mCSEA_1.27.2.tar.gz StartedAt: 2025-02-05 20:03:19 -0500 (Wed, 05 Feb 2025) EndedAt: 2025-02-05 20:05:32 -0500 (Wed, 05 Feb 2025) EllapsedTime: 133.6 seconds RetCode: 0 Status: OK CheckDir: mCSEA.Rcheck Warnings: 0