Package: mCSEA Version: 1.27.2 Command: /Library/Frameworks/R.framework/Resources/bin/R CMD INSTALL mCSEA StartedAt: 2025-02-05 15:19:46 -0500 (Wed, 05 Feb 2025) EndedAt: 2025-02-05 15:20:02 -0500 (Wed, 05 Feb 2025) EllapsedTime: 15.8 seconds RetCode: 0 Status: OK