Package: mCSEA Version: 1.27.2 Command: /home/biocbuild/R/R/bin/R CMD build --keep-empty-dirs --no-resave-data mCSEA StartedAt: 2025-01-29 00:04:46 -0000 (Wed, 29 Jan 2025) EndedAt: 2025-01-29 00:08:21 -0000 (Wed, 29 Jan 2025) EllapsedTime: 215.1 seconds RetCode: 1 Status: ERROR PackageFile: None PackageFileSize: NA