Package: mCSEA Version: 1.27.2 Command: /home/biocbuild/R/R/bin/R CMD check --install=check:mCSEA.install-out.txt --library=/home/biocbuild/R/R/site-library --no-vignettes --timings mCSEA_1.27.2.tar.gz StartedAt: 2025-01-18 08:57:45 -0000 (Sat, 18 Jan 2025) EndedAt: 2025-01-18 09:05:13 -0000 (Sat, 18 Jan 2025) EllapsedTime: 448.5 seconds RetCode: 0 Status: WARNINGS CheckDir: mCSEA.Rcheck Warnings: 5