Package: mCSEA Version: 1.27.2 Command: /home/biocbuild/R/R/bin/R CMD INSTALL mCSEA StartedAt: 2025-01-29 20:16:08 -0000 (Wed, 29 Jan 2025) EndedAt: 2025-01-29 20:17:01 -0000 (Wed, 29 Jan 2025) EllapsedTime: 53.1 seconds RetCode: 0 Status: OK