Package: mCSEA Version: 1.27.2 Command: /Library/Frameworks/R.framework/Resources/bin/R CMD build --keep-empty-dirs --no-resave-data mCSEA StartedAt: 2025-02-05 17:14:45 -0500 (Wed, 05 Feb 2025) EndedAt: 2025-02-05 17:18:27 -0500 (Wed, 05 Feb 2025) EllapsedTime: 221.3 seconds RetCode: 0 Status: OK PackageFile: mCSEA_1.27.2.tar.gz PackageFileSize: 1.87 MiB