Package: mCSEA Version: 1.27.2 Command: /home/biocbuild/bbs-3.21-bioc/R/bin/R CMD build --keep-empty-dirs --no-resave-data mCSEA StartedAt: 2025-02-05 17:58:26 -0500 (Wed, 05 Feb 2025) EndedAt: 2025-02-05 18:01:46 -0500 (Wed, 05 Feb 2025) EllapsedTime: 200.2 seconds RetCode: 0 Status: OK PackageFile: mCSEA_1.27.2.tar.gz PackageFileSize: 1.871 MiB