Package: mCSEA Version: 1.27.2 Command: /home/biocbuild/bbs-3.21-bioc/R/bin/R CMD check --install=check:mCSEA.install-out.txt --library=/home/biocbuild/bbs-3.21-bioc/R/site-library --timings mCSEA_1.27.2.tar.gz StartedAt: 2025-02-05 23:51:46 -0500 (Wed, 05 Feb 2025) EndedAt: 2025-02-06 00:00:17 -0500 (Thu, 06 Feb 2025) EllapsedTime: 510.6 seconds RetCode: 0 Status: OK CheckDir: mCSEA.Rcheck Warnings: 0