Package: mCSEA Version: 1.27.2 Command: /home/biocbuild/bbs-3.21-bioc/R/bin/R CMD INSTALL mCSEA StartedAt: 2025-02-05 15:56:55 -0500 (Wed, 05 Feb 2025) EndedAt: 2025-02-05 15:57:35 -0500 (Wed, 05 Feb 2025) EllapsedTime: 39.5 seconds RetCode: 0 Status: OK