Package: mCSEA Version: 1.27.2 Command: chmod a+r mCSEA -R && E:\biocbuild\bbs-3.21-bioc\R\bin\R.exe CMD build --keep-empty-dirs --no-resave-data mCSEA StartedAt: 2025-02-05 19:48:17 -0500 (Wed, 05 Feb 2025) EndedAt: 2025-02-05 19:52:38 -0500 (Wed, 05 Feb 2025) EllapsedTime: 261.2 seconds RetCode: 0 Status: OK PackageFile: mCSEA_1.27.2.tar.gz PackageFileSize: 1.872 MiB