Package: mCSEA Version: 1.27.2 Command: E:\biocbuild\bbs-3.21-bioc\R\bin\R.exe CMD check --no-multiarch --install=check:mCSEA.install-out.txt --library=E:\biocbuild\bbs-3.21-bioc\R\library --no-vignettes --timings mCSEA_1.27.2.tar.gz StartedAt: 2025-02-06 03:06:50 -0500 (Thu, 06 Feb 2025) EndedAt: 2025-02-06 03:13:36 -0500 (Thu, 06 Feb 2025) EllapsedTime: 405.9 seconds RetCode: 0 Status: OK CheckDir: mCSEA.Rcheck Warnings: 0