Package: mCSEA Version: 1.27.2 Command: E:\biocbuild\bbs-3.21-bioc\R\bin\R.exe CMD INSTALL mCSEA StartedAt: 2025-02-05 16:31:17 -0500 (Wed, 05 Feb 2025) EndedAt: 2025-02-05 16:32:01 -0500 (Wed, 05 Feb 2025) EllapsedTime: 43.7 seconds RetCode: 0 Status: OK