Package: maCorrPlot Version: 1.77.0 Command: /Library/Frameworks/R.framework/Resources/bin/R CMD check --install=check:maCorrPlot.install-out.txt --library=/Library/Frameworks/R.framework/Resources/library --no-vignettes --timings maCorrPlot_1.77.0.tar.gz StartedAt: 2025-02-09 21:37:51 -0500 (Sun, 09 Feb 2025) EndedAt: 2025-02-09 21:38:22 -0500 (Sun, 09 Feb 2025) EllapsedTime: 31.1 seconds RetCode: 0 Status: OK CheckDir: maCorrPlot.Rcheck Warnings: 0