Package: maCorrPlot Version: 1.77.0 Command: /Library/Frameworks/R.framework/Resources/bin/R CMD INSTALL maCorrPlot StartedAt: 2025-02-09 15:03:51 -0500 (Sun, 09 Feb 2025) EndedAt: 2025-02-09 15:04:27 -0500 (Sun, 09 Feb 2025) EllapsedTime: 36.1 seconds RetCode: 0 Status: OK