Package: maCorrPlot Version: 1.77.0 Command: chmod a+r maCorrPlot -R && E:\biocbuild\bbs-3.21-bioc\R\bin\R.exe CMD build --keep-empty-dirs --no-resave-data maCorrPlot StartedAt: 2025-02-09 19:36:24 -0500 (Sun, 09 Feb 2025) EndedAt: 2025-02-09 19:36:37 -0500 (Sun, 09 Feb 2025) EllapsedTime: 12.9 seconds RetCode: 0 Status: OK PackageFile: maCorrPlot_1.77.0.tar.gz PackageFileSize: 1.265 MiB