Package: maPredictDSC Version: 1.45.0 Command: rm -rf maPredictDSC.buildbin-libdir && mkdir maPredictDSC.buildbin-libdir && /Users/biocbuild/BBS/utils/build-universal.sh maPredictDSC_1.45.0.tar.gz /Library/Frameworks/R.framework/Resources/bin/R maPredictDSC.buildbin-libdir StartedAt: 2025-02-05 00:47:04 -0500 (Wed, 05 Feb 2025) EndedAt: 2025-02-05 00:47:39 -0500 (Wed, 05 Feb 2025) EllapsedTime: 34.9 seconds RetCode: 0 Status: OK PackageFile: maPredictDSC_1.45.0.tgz PackageFileSize: 228.2 KiB