Package: maPredictDSC Version: 1.45.0 Command: /Library/Frameworks/R.framework/Resources/bin/R CMD INSTALL maPredictDSC StartedAt: 2025-02-04 15:36:20 -0500 (Tue, 04 Feb 2025) EndedAt: 2025-02-04 15:36:53 -0500 (Tue, 04 Feb 2025) EllapsedTime: 32.1 seconds RetCode: 0 Status: OK