Package: maPredictDSC Version: 1.45.0 Command: /home/biocbuild/bbs-3.21-bioc/R/bin/R CMD build --keep-empty-dirs --no-resave-data maPredictDSC StartedAt: 2025-02-04 17:52:52 -0500 (Tue, 04 Feb 2025) EndedAt: 2025-02-04 17:54:20 -0500 (Tue, 04 Feb 2025) EllapsedTime: 88.1 seconds RetCode: 0 Status: OK PackageFile: maPredictDSC_1.45.0.tar.gz PackageFileSize: 197.5 KiB