Package: maPredictDSC Version: 1.45.0 Command: /home/biocbuild/bbs-3.21-bioc/R/bin/R CMD check --install=check:maPredictDSC.install-out.txt --library=/home/biocbuild/bbs-3.21-bioc/R/site-library --timings maPredictDSC_1.45.0.tar.gz StartedAt: 2025-02-09 23:44:59 -0500 (Sun, 09 Feb 2025) EndedAt: 2025-02-09 23:50:06 -0500 (Sun, 09 Feb 2025) EllapsedTime: 306.4 seconds RetCode: 0 Status: OK CheckDir: maPredictDSC.Rcheck Warnings: 0