Package: maPredictDSC Version: 1.45.0 Command: rm -rf maPredictDSC.buildbin-libdir && mkdir maPredictDSC.buildbin-libdir && E:\biocbuild\bbs-3.21-bioc\R\bin\R.exe CMD INSTALL --build --library=maPredictDSC.buildbin-libdir maPredictDSC_1.45.0.tar.gz StartedAt: 2025-02-05 08:15:33 -0500 (Wed, 05 Feb 2025) EndedAt: 2025-02-05 08:16:32 -0500 (Wed, 05 Feb 2025) EllapsedTime: 58.9 seconds RetCode: 0 Status: OK PackageFile: maPredictDSC_1.45.0.zip PackageFileSize: 135.5 KiB