Package: maPredictDSC Version: 1.45.0 Command: chmod a+r maPredictDSC -R && E:\biocbuild\bbs-3.21-bioc\R\bin\R.exe CMD build --keep-empty-dirs --no-resave-data maPredictDSC StartedAt: 2025-02-04 19:40:14 -0500 (Tue, 04 Feb 2025) EndedAt: 2025-02-04 19:43:57 -0500 (Tue, 04 Feb 2025) EllapsedTime: 222.6 seconds RetCode: 0 Status: OK PackageFile: maPredictDSC_1.45.0.tar.gz PackageFileSize: 100.6 KiB