Package: maPredictDSC Version: 1.45.0 Command: E:\biocbuild\bbs-3.21-bioc\R\bin\R.exe CMD check --no-multiarch --install=check:maPredictDSC.install-out.txt --library=E:\biocbuild\bbs-3.21-bioc\R\library --no-vignettes --timings maPredictDSC_1.45.0.tar.gz StartedAt: 2025-02-05 02:58:36 -0500 (Wed, 05 Feb 2025) EndedAt: 2025-02-05 03:05:09 -0500 (Wed, 05 Feb 2025) EllapsedTime: 392.9 seconds RetCode: 0 Status: OK CheckDir: maPredictDSC.Rcheck Warnings: 0