Package: maPredictDSC Version: 1.45.0 Command: E:\biocbuild\bbs-3.21-bioc\R\bin\R.exe CMD INSTALL maPredictDSC StartedAt: 2025-02-04 16:40:08 -0500 (Tue, 04 Feb 2025) EndedAt: 2025-02-04 16:40:38 -0500 (Tue, 04 Feb 2025) EllapsedTime: 29.3 seconds RetCode: 0 Status: OK