Package: made4 Version: 1.81.0 Command: rm -rf made4.buildbin-libdir && mkdir made4.buildbin-libdir && /Users/biocbuild/BBS/utils/build-universal.sh made4_1.81.0.tar.gz /Library/Frameworks/R.framework/Resources/bin/R made4.buildbin-libdir StartedAt: 2025-02-05 22:24:28 -0500 (Wed, 05 Feb 2025) EndedAt: 2025-02-05 22:24:38 -0500 (Wed, 05 Feb 2025) EllapsedTime: 10.2 seconds RetCode: 0 Status: OK PackageFile: made4_1.81.0.tgz PackageFileSize: 2.269 MiB