Package: made4 Version: 1.81.0 Command: /Library/Frameworks/R.framework/Resources/bin/R CMD check --install=check:made4.install-out.txt --library=/Library/Frameworks/R.framework/Resources/library --no-vignettes --timings made4_1.81.0.tar.gz StartedAt: 2025-02-05 19:59:44 -0500 (Wed, 05 Feb 2025) EndedAt: 2025-02-05 20:00:43 -0500 (Wed, 05 Feb 2025) EllapsedTime: 58.8 seconds RetCode: 0 Status: OK CheckDir: made4.Rcheck Warnings: 0