Package: made4 Version: 1.81.0 Command: /Library/Frameworks/R.framework/Resources/bin/R CMD INSTALL made4 StartedAt: 2025-02-05 15:04:50 -0500 (Wed, 05 Feb 2025) EndedAt: 2025-02-05 15:04:59 -0500 (Wed, 05 Feb 2025) EllapsedTime: 8.9 seconds RetCode: 0 Status: OK