Package: made4 Version: 1.81.0 Command: /home/biocbuild/R/R/bin/R CMD build --keep-empty-dirs --no-resave-data made4 StartedAt: 2025-01-28 23:58:05 -0000 (Tue, 28 Jan 2025) EndedAt: 2025-01-28 23:59:02 -0000 (Tue, 28 Jan 2025) EllapsedTime: 57.0 seconds RetCode: 0 Status: OK PackageFile: made4_1.81.0.tar.gz PackageFileSize: 1.913 MiB