Package: made4 Version: 1.81.0 Command: /home/biocbuild/R/R/bin/R CMD INSTALL made4 StartedAt: 2025-01-29 19:39:59 -0000 (Wed, 29 Jan 2025) EndedAt: 2025-01-29 19:40:29 -0000 (Wed, 29 Jan 2025) EllapsedTime: 29.9 seconds RetCode: 0 Status: OK