Package: made4 Version: 1.81.0 Command: /Library/Frameworks/R.framework/Resources/bin/R CMD INSTALL made4 StartedAt: 2025-02-05 15:09:53 -0500 (Wed, 05 Feb 2025) EndedAt: 2025-02-05 15:10:24 -0500 (Wed, 05 Feb 2025) EllapsedTime: 31.2 seconds RetCode: 0 Status: OK