Package: made4 Version: 1.81.0 Command: /home/biocbuild/bbs-3.21-bioc/R/bin/R CMD INSTALL made4 StartedAt: 2025-02-05 15:19:41 -0500 (Wed, 05 Feb 2025) EndedAt: 2025-02-05 15:20:03 -0500 (Wed, 05 Feb 2025) EllapsedTime: 21.9 seconds RetCode: 0 Status: OK