Package: made4 Version: 1.81.0 Command: E:\biocbuild\bbs-3.21-bioc\R\bin\R.exe CMD check --no-multiarch --install=check:made4.install-out.txt --library=E:\biocbuild\bbs-3.21-bioc\R\library --no-vignettes --timings made4_1.81.0.tar.gz StartedAt: 2025-02-06 02:59:59 -0500 (Thu, 06 Feb 2025) EndedAt: 2025-02-06 03:03:01 -0500 (Thu, 06 Feb 2025) EllapsedTime: 182.1 seconds RetCode: 0 Status: OK CheckDir: made4.Rcheck Warnings: 0