Package: made4 Version: 1.81.0 Command: E:\biocbuild\bbs-3.21-bioc\R\bin\R.exe CMD INSTALL made4 StartedAt: 2025-02-05 15:50:06 -0500 (Wed, 05 Feb 2025) EndedAt: 2025-02-05 15:50:43 -0500 (Wed, 05 Feb 2025) EllapsedTime: 37.1 seconds RetCode: 0 Status: OK