Package: maftools Version: 2.23.0 Command: rm -rf maftools.buildbin-libdir && mkdir maftools.buildbin-libdir && /Users/biocbuild/BBS/utils/build-universal.sh maftools_2.23.0.tar.gz /Library/Frameworks/R.framework/Resources/bin/R maftools.buildbin-libdir StartedAt: 2025-02-04 22:21:24 -0500 (Tue, 04 Feb 2025) EndedAt: 2025-02-04 22:21:34 -0500 (Tue, 04 Feb 2025) EllapsedTime: 9.2 seconds RetCode: 0 Status: OK PackageFile: maftools_2.23.0.tgz PackageFileSize: 13.04 MiB