Package: maftools Version: 2.23.0 Command: /Library/Frameworks/R.framework/Resources/bin/R CMD build --keep-empty-dirs --no-resave-data maftools StartedAt: 2025-02-04 16:47:55 -0500 (Tue, 04 Feb 2025) EndedAt: 2025-02-04 16:49:19 -0500 (Tue, 04 Feb 2025) EllapsedTime: 84.0 seconds RetCode: 0 Status: OK PackageFile: maftools_2.23.0.tar.gz PackageFileSize: 12.3 MiB