Package: maftools Version: 2.23.0 Command: /Library/Frameworks/R.framework/Resources/bin/R CMD INSTALL maftools StartedAt: 2025-02-04 15:21:22 -0500 (Tue, 04 Feb 2025) EndedAt: 2025-02-04 15:21:29 -0500 (Tue, 04 Feb 2025) EllapsedTime: 7.1 seconds RetCode: 0 Status: OK