Package: maftools Version: 2.23.0 Command: /home/biocbuild/R/R/bin/R CMD build --keep-empty-dirs --no-resave-data maftools StartedAt: 2025-01-28 23:58:14 -0000 (Tue, 28 Jan 2025) EndedAt: 2025-01-29 00:38:15 -0000 (Wed, 29 Jan 2025) EllapsedTime: 2400.9 seconds RetCode: None Status: TIMEOUT PackageFile: None PackageFileSize: NA