Package: maftools Version: 2.23.0 Command: /home/biocbuild/R/R/bin/R CMD check --install=check:maftools.install-out.txt --library=/home/biocbuild/R/R/site-library --no-vignettes --timings maftools_2.23.0.tar.gz StartedAt: 2025-01-27 09:29:10 -0000 (Mon, 27 Jan 2025) EndedAt: 2025-01-27 09:31:56 -0000 (Mon, 27 Jan 2025) EllapsedTime: 165.2 seconds RetCode: 0 Status: WARNINGS CheckDir: maftools.Rcheck Warnings: 1