Package: maftools Version: 2.23.0 Command: rm -rf maftools.buildbin-libdir && mkdir maftools.buildbin-libdir && /Users/biocbuild/BBS/utils/build-universal.sh maftools_2.23.0.tar.gz /Library/Frameworks/R.framework/Resources/bin/R maftools.buildbin-libdir StartedAt: 2025-02-05 00:46:56 -0500 (Wed, 05 Feb 2025) EndedAt: 2025-02-05 00:47:29 -0500 (Wed, 05 Feb 2025) EllapsedTime: 33.7 seconds RetCode: 0 Status: OK PackageFile: maftools_2.23.0.tgz PackageFileSize: 13.1 MiB