Package: maftools Version: 2.23.0 Command: /Library/Frameworks/R.framework/Resources/bin/R CMD check --install=check:maftools.install-out.txt --library=/Library/Frameworks/R.framework/Resources/library --no-vignettes --timings maftools_2.23.0.tar.gz StartedAt: 2025-02-04 21:23:19 -0500 (Tue, 04 Feb 2025) EndedAt: 2025-02-04 21:25:50 -0500 (Tue, 04 Feb 2025) EllapsedTime: 150.7 seconds RetCode: 0 Status: OK CheckDir: maftools.Rcheck Warnings: 0