Package: maftools Version: 2.23.0 Command: /home/biocbuild/bbs-3.21-bioc/R/bin/R CMD build --keep-empty-dirs --no-resave-data maftools StartedAt: 2025-02-04 17:51:59 -0500 (Tue, 04 Feb 2025) EndedAt: 2025-02-04 17:55:08 -0500 (Tue, 04 Feb 2025) EllapsedTime: 189.2 seconds RetCode: 0 Status: OK PackageFile: maftools_2.23.0.tar.gz PackageFileSize: 11.89 MiB