Package: maftools Version: 2.23.0 Command: rm -rf maftools.buildbin-libdir && mkdir maftools.buildbin-libdir && E:\biocbuild\bbs-3.21-bioc\R\bin\R.exe CMD INSTALL --build --library=maftools.buildbin-libdir maftools_2.23.0.tar.gz StartedAt: 2025-02-05 08:15:10 -0500 (Wed, 05 Feb 2025) EndedAt: 2025-02-05 08:17:02 -0500 (Wed, 05 Feb 2025) EllapsedTime: 112.1 seconds RetCode: 0 Status: OK PackageFile: maftools_2.23.0.zip PackageFileSize: 13.97 MiB