Package: maftools Version: 2.23.0 Command: chmod a+r maftools -R && E:\biocbuild\bbs-3.21-bioc\R\bin\R.exe CMD build --keep-empty-dirs --no-resave-data maftools StartedAt: 2025-02-04 19:39:30 -0500 (Tue, 04 Feb 2025) EndedAt: 2025-02-04 19:43:35 -0500 (Tue, 04 Feb 2025) EllapsedTime: 245.6 seconds RetCode: 0 Status: OK PackageFile: maftools_2.23.0.tar.gz PackageFileSize: 9.015 MiB