Package: maftools Version: 2.23.0 Command: E:\biocbuild\bbs-3.21-bioc\R\bin\R.exe CMD check --no-multiarch --install=check:maftools.install-out.txt --library=E:\biocbuild\bbs-3.21-bioc\R\library --no-vignettes --timings maftools_2.23.0.tar.gz StartedAt: 2025-02-05 02:57:17 -0500 (Wed, 05 Feb 2025) EndedAt: 2025-02-05 03:02:07 -0500 (Wed, 05 Feb 2025) EllapsedTime: 290.2 seconds RetCode: 0 Status: OK CheckDir: maftools.Rcheck Warnings: 0