Package: magpie Version: 1.7.0 Command: /Library/Frameworks/R.framework/Resources/bin/R CMD check --install=check:magpie.install-out.txt --library=/Library/Frameworks/R.framework/Resources/library --no-vignettes --timings magpie_1.7.0.tar.gz StartedAt: 2025-02-09 19:54:04 -0500 (Sun, 09 Feb 2025) EndedAt: 2025-02-09 19:55:46 -0500 (Sun, 09 Feb 2025) EllapsedTime: 102.2 seconds RetCode: 0 Status: WARNINGS CheckDir: magpie.Rcheck Warnings: 1