Package: magpie Version: 1.7.0 Command: /Library/Frameworks/R.framework/Resources/bin/R CMD INSTALL magpie StartedAt: 2025-02-12 15:26:58 -0500 (Wed, 12 Feb 2025) EndedAt: 2025-02-12 15:27:14 -0500 (Wed, 12 Feb 2025) EllapsedTime: 16.0 seconds RetCode: 0 Status: OK